BEGIN:VCALENDAR
VERSION:2.0
PRODID:-//OVOS - ECPv6.15.20//NONSGML v1.0//EN
CALSCALE:GREGORIAN
METHOD:PUBLISH
X-ORIGINAL-URL:https://ovos.be
X-WR-CALDESC:Evenementen voor OVOS
REFRESH-INTERVAL;VALUE=DURATION:PT1H
X-Robots-Tag:noindex
X-PUBLISHED-TTL:PT1H
BEGIN:VTIMEZONE
TZID:Europe/Brussels
BEGIN:DAYLIGHT
TZOFFSETFROM:+0100
TZOFFSETTO:+0200
TZNAME:CEST
DTSTART:20210328T010000
END:DAYLIGHT
BEGIN:STANDARD
TZOFFSETFROM:+0200
TZOFFSETTO:+0100
TZNAME:CET
DTSTART:20211031T010000
END:STANDARD
BEGIN:DAYLIGHT
TZOFFSETFROM:+0100
TZOFFSETTO:+0200
TZNAME:CEST
DTSTART:20220327T010000
END:DAYLIGHT
BEGIN:STANDARD
TZOFFSETFROM:+0200
TZOFFSETTO:+0100
TZNAME:CET
DTSTART:20221030T010000
END:STANDARD
BEGIN:DAYLIGHT
TZOFFSETFROM:+0100
TZOFFSETTO:+0200
TZNAME:CEST
DTSTART:20230326T010000
END:DAYLIGHT
BEGIN:STANDARD
TZOFFSETFROM:+0200
TZOFFSETTO:+0100
TZNAME:CET
DTSTART:20231029T010000
END:STANDARD
END:VTIMEZONE
BEGIN:VEVENT
DTSTART;TZID=Europe/Brussels:20220611T090000
DTEND;TZID=Europe/Brussels:20220611T170000
DTSTAMP:20260419T190105
CREATED:20220126T133208Z
LAST-MODIFIED:20220426T140701Z
UID:3554-1654938000-1654966800@ovos.be
SUMMARY:Blaarmeersen proevendag
DESCRIPTION:Inschrijven via https://forms.gle/7xwowuKDxGghKx3h6 \nAlle informatie kan je vinden in de uitnodiging: OVOS BM Proevendag 2022
URL:https://ovos.be/event/blaarmeersen-proevendag-4/
LOCATION:Blaarmeersen\, Blaarmeersen\, Gent\, Oost-Vlaanderen\, 9000\, België
CATEGORIES:Cel Blaarmeersen,Opleiding,OVOS,Praktijk
END:VEVENT
END:VCALENDAR