BEGIN:VCALENDAR
VERSION:2.0
PRODID:-//OVOS - ECPv6.15.20//NONSGML v1.0//EN
CALSCALE:GREGORIAN
METHOD:PUBLISH
X-WR-CALNAME:OVOS
X-ORIGINAL-URL:https://ovos.be
X-WR-CALDESC:Evenementen voor OVOS
REFRESH-INTERVAL;VALUE=DURATION:PT1H
X-Robots-Tag:noindex
X-PUBLISHED-TTL:PT1H
BEGIN:VTIMEZONE
TZID:Europe/Brussels
BEGIN:DAYLIGHT
TZOFFSETFROM:+0100
TZOFFSETTO:+0200
TZNAME:CEST
DTSTART:20240331T010000
END:DAYLIGHT
BEGIN:STANDARD
TZOFFSETFROM:+0200
TZOFFSETTO:+0100
TZNAME:CET
DTSTART:20241027T010000
END:STANDARD
BEGIN:DAYLIGHT
TZOFFSETFROM:+0100
TZOFFSETTO:+0200
TZNAME:CEST
DTSTART:20250330T010000
END:DAYLIGHT
BEGIN:STANDARD
TZOFFSETFROM:+0200
TZOFFSETTO:+0100
TZNAME:CET
DTSTART:20251026T010000
END:STANDARD
BEGIN:DAYLIGHT
TZOFFSETFROM:+0100
TZOFFSETTO:+0200
TZNAME:CEST
DTSTART:20260329T010000
END:DAYLIGHT
BEGIN:STANDARD
TZOFFSETFROM:+0200
TZOFFSETTO:+0100
TZNAME:CET
DTSTART:20261025T010000
END:STANDARD
END:VTIMEZONE
BEGIN:VEVENT
DTSTART;TZID=Europe/Brussels:20250622T080000
DTEND;TZID=Europe/Brussels:20250622T170000
DTSTAMP:20260423T164152
CREATED:20250218T202529Z
LAST-MODIFIED:20250611T133837Z
UID:5440-1750579200-1750611600@ovos.be
SUMMARY:OVOS Noordzeeduik
DESCRIPTION:VOLZET – De OVOS Noordzeeduik van 2025 is volzet\nBeste OVOS-buddies\, \nOVOS organiseert terug een Noordzeeduik met RIB’s ! \n\n\nWanneer: op zondag 22 juni 2025\nWaar: Noordzee met vertrek vanuit Neeltje Jans (NL)\nWat: wrakduik (wrak nog te bevestigen)\n \n\nWie: deelnemen kan vanaf 3*D\, liefst met ervaring in waters met stroming (zee).\n\n\nMeer informatie volgt in de week voorafgaand aan het evenement.\nInschrijven kan via link https://forms.gle/8tTpX6dibatXSEZi7 en betaling van 65 EUR op het OVOS rekeningnummer BE15 2900 1708 2630 met mededeling “Voornaam/Naam + Noordzeeduik 2025”. Indien de duik niet doorgaat\, wordt het geld teruggestort op uw rekening.\nEr is een beperkt aantal plekken beschikbaar. We werken volgens het principe ‘wie het eerst komt\, die het eerst maalt’\, met een reservelijst. Bij annulering van een deelnemer wordt de eerstvolgende persoon op de reservelijst benaderd om de vrijgekomen plek in te nemen.\nWe kijken alvast opnieuw uit naar een geslaagde dag!\nMet sportieve groeten vanwege de OVOS werkgroep Noordzee
URL:https://ovos.be/event/ovos-noordzeeduik/
LOCATION:Noordzee\, Noordzee\, België
CATEGORIES:Cel Noordzee,Opleiding,Praktijk
END:VEVENT
END:VCALENDAR