BEGIN:VCALENDAR
VERSION:2.0
PRODID:-//OVOS - ECPv6.15.20//NONSGML v1.0//EN
CALSCALE:GREGORIAN
METHOD:PUBLISH
X-WR-CALNAME:OVOS
X-ORIGINAL-URL:https://ovos.be
X-WR-CALDESC:Evenementen voor OVOS
REFRESH-INTERVAL;VALUE=DURATION:PT1H
X-Robots-Tag:noindex
X-PUBLISHED-TTL:PT1H
BEGIN:VTIMEZONE
TZID:Europe/Brussels
BEGIN:DAYLIGHT
TZOFFSETFROM:+0100
TZOFFSETTO:+0200
TZNAME:CEST
DTSTART:20230326T010000
END:DAYLIGHT
BEGIN:STANDARD
TZOFFSETFROM:+0200
TZOFFSETTO:+0100
TZNAME:CET
DTSTART:20231029T010000
END:STANDARD
BEGIN:DAYLIGHT
TZOFFSETFROM:+0100
TZOFFSETTO:+0200
TZNAME:CEST
DTSTART:20240331T010000
END:DAYLIGHT
BEGIN:STANDARD
TZOFFSETFROM:+0200
TZOFFSETTO:+0100
TZNAME:CET
DTSTART:20241027T010000
END:STANDARD
BEGIN:DAYLIGHT
TZOFFSETFROM:+0100
TZOFFSETTO:+0200
TZNAME:CEST
DTSTART:20250330T010000
END:DAYLIGHT
BEGIN:STANDARD
TZOFFSETFROM:+0200
TZOFFSETTO:+0100
TZNAME:CET
DTSTART:20251026T010000
END:STANDARD
END:VTIMEZONE
BEGIN:VEVENT
DTSTART;VALUE=DATE:20240811
DTEND;VALUE=DATE:20240812
DTSTAMP:20260419T172954
CREATED:20240327T095837Z
LAST-MODIFIED:20240327T095837Z
UID:4841-1723334400-1723420799@ovos.be
SUMMARY:Noordzee bootduik
DESCRIPTION:Meer informatie zal binnenkort naar de clubs via mail gestuurd worden.
URL:https://ovos.be/event/noordzee-bootduik/
CATEGORIES:Cel Noordzee,OVOS,OVOS Duik
END:VEVENT
BEGIN:VEVENT
DTSTART;VALUE=DATE:20240824
DTEND;VALUE=DATE:20240825
DTSTAMP:20260419T172954
CREATED:20240523T174314Z
LAST-MODIFIED:20240523T174314Z
UID:4923-1724457600-1724543999@ovos.be
SUMMARY:OVOS Instructeursduik
DESCRIPTION:Uitnodiging zal via mail verstuurd worden naar alle instructeurs van OVOS.
URL:https://ovos.be/event/ovos-instructeursduik-3/
LOCATION:De Parking\, Wemeldinge\, Oude Zeedijk 52\, Kattendijke\, 4474 NA\, Nederland
CATEGORIES:Clubs,OVOS Duik
END:VEVENT
END:VCALENDAR