BEGIN:VCALENDAR
VERSION:2.0
PRODID:-//OVOS - ECPv6.15.20//NONSGML v1.0//EN
CALSCALE:GREGORIAN
METHOD:PUBLISH
X-ORIGINAL-URL:https://ovos.be
X-WR-CALDESC:Evenementen voor OVOS
REFRESH-INTERVAL;VALUE=DURATION:PT1H
X-Robots-Tag:noindex
X-PUBLISHED-TTL:PT1H
BEGIN:VTIMEZONE
TZID:Europe/Brussels
BEGIN:DAYLIGHT
TZOFFSETFROM:+0100
TZOFFSETTO:+0200
TZNAME:CEST
DTSTART:20180325T010000
END:DAYLIGHT
BEGIN:STANDARD
TZOFFSETFROM:+0200
TZOFFSETTO:+0100
TZNAME:CET
DTSTART:20181028T010000
END:STANDARD
BEGIN:DAYLIGHT
TZOFFSETFROM:+0100
TZOFFSETTO:+0200
TZNAME:CEST
DTSTART:20190331T010000
END:DAYLIGHT
BEGIN:STANDARD
TZOFFSETFROM:+0200
TZOFFSETTO:+0100
TZNAME:CET
DTSTART:20191027T010000
END:STANDARD
BEGIN:DAYLIGHT
TZOFFSETFROM:+0100
TZOFFSETTO:+0200
TZNAME:CEST
DTSTART:20200329T010000
END:DAYLIGHT
BEGIN:STANDARD
TZOFFSETFROM:+0200
TZOFFSETTO:+0100
TZNAME:CET
DTSTART:20201025T010000
END:STANDARD
END:VTIMEZONE
BEGIN:VEVENT
DTSTART;TZID=Europe/Brussels:20191106T200000
DTEND;TZID=Europe/Brussels:20191106T223000
DTSTAMP:20260425T021225
CREATED:20190924T084702Z
LAST-MODIFIED:20190924T084702Z
UID:2261-1573070400-1573079400@ovos.be
SUMMARY:Theorie 4*D/AI - Fysica
DESCRIPTION:Huis van de Sport – 20u \nLesgever: Luc Vasseur \nInschrijving voor deze lessen gebeurt via secretariaat@ovos.be. Vermeld naam\, duikschool en dat het gaat over AI/4*D Theorie.
URL:https://ovos.be/event/theorie-4d-ai-fysica/
LOCATION:Oost-Vlaanderen
CATEGORIES:Opleiding,Theorie
END:VEVENT
BEGIN:VEVENT
DTSTART;TZID=Europe/Brussels:20191113T200000
DTEND;TZID=Europe/Brussels:20191113T220000
DTSTAMP:20260425T021225
CREATED:20191028T120931Z
LAST-MODIFIED:20191028T120931Z
UID:2406-1573675200-1573682400@ovos.be
SUMMARY:Bijscholing Decompressietechnieken
DESCRIPTION:Gericht aan alle 4*D\, AI en Instructeurs. \n  \nInschrijven via secretariaat@ovos.be
URL:https://ovos.be/event/bijscholing-decompressietechnieken/
LOCATION:De Zonnevallei\, Dendermondsesteenweg 13a\, Dendermonde\, Oost-Vlaanderen\, 9290\, België
CATEGORIES:Opleiding,OVOS,Theorie
END:VEVENT
BEGIN:VEVENT
DTSTART;TZID=Europe/Brussels:20191113T200000
DTEND;TZID=Europe/Brussels:20191113T223000
DTSTAMP:20260425T021225
CREATED:20190924T084703Z
LAST-MODIFIED:20190924T092151Z
UID:2262-1573675200-1573684200@ovos.be
SUMMARY:Theorie 4*D/AI - Reglementering en materiaal
DESCRIPTION:Huis van de Sport – 20u \nLesgever: Dirk Callaert \nInschrijving voor deze lessen gebeurt via secretariaat@ovos.be. Vermeld naam\, duikschool en dat het gaat over AI/4*D Theorie.
URL:https://ovos.be/event/theorie-4d-ai-reglementering-en-materiaal/
LOCATION:Oost-Vlaanderen
CATEGORIES:Opleiding,Theorie
END:VEVENT
BEGIN:VEVENT
DTSTART;TZID=Europe/Brussels:20191118T200000
DTEND;TZID=Europe/Brussels:20191118T223000
DTSTAMP:20260425T021225
CREATED:20190924T084704Z
LAST-MODIFIED:20190924T084704Z
UID:2263-1574107200-1574116200@ovos.be
SUMMARY:Theorie 4*D/AI - Fauna en flora
DESCRIPTION:Huis van de Sport – 20u \nLesgever: John Maes \nInschrijving voor deze lessen gebeurt via secretariaat@ovos.be. Vermeld naam\, duikschool en dat het gaat over AI/4*D Theorie.
URL:https://ovos.be/event/theorie-4d-ai-fauna-en-flora/
LOCATION:Oost-Vlaanderen
CATEGORIES:Opleiding,Theorie
END:VEVENT
BEGIN:VEVENT
DTSTART;TZID=Europe/Brussels:20191120T200000
DTEND;TZID=Europe/Brussels:20191120T223000
DTSTAMP:20260425T021225
CREATED:20190924T084705Z
LAST-MODIFIED:20190924T084705Z
UID:2264-1574280000-1574289000@ovos.be
SUMMARY:Theorie 4*D/AI - Anatomie\, barotraumata en gasintoxicaties
DESCRIPTION:Huis van de Sport – 20u \nLesgever: Nathalie De Bock \nInschrijving voor deze lessen gebeurt via secretariaat@ovos.be. Vermeld naam\, duikschool en dat het gaat over AI/4*D Theorie.
URL:https://ovos.be/event/theorie-4d-ai-anatomie-barotraumata-en-gasintoxicaties/
LOCATION:Oost-Vlaanderen
CATEGORIES:Opleiding,Theorie
END:VEVENT
BEGIN:VEVENT
DTSTART;TZID=Europe/Brussels:20191125T200000
DTEND;TZID=Europe/Brussels:20191125T223000
DTSTAMP:20260425T021225
CREATED:20190924T084706Z
LAST-MODIFIED:20190924T084706Z
UID:2265-1574712000-1574721000@ovos.be
SUMMARY:Theorie 4*D/AI - Decompressietechnieken en ongevallen
DESCRIPTION:Huis van de Sport – 20u \nLesgever: Rein Crombez \nInschrijving voor deze lessen gebeurt via secretariaat@ovos.be. Vermeld naam\, duikschool en dat het gaat over AI/4*D Theorie.
URL:https://ovos.be/event/theorie-4d-ai-decompressietechnieken-en-ongevallen/
LOCATION:Oost-Vlaanderen
CATEGORIES:Opleiding,Theorie
END:VEVENT
END:VCALENDAR