BEGIN:VCALENDAR
VERSION:2.0
PRODID:-//OVOS - ECPv6.15.20//NONSGML v1.0//EN
CALSCALE:GREGORIAN
METHOD:PUBLISH
X-ORIGINAL-URL:https://ovos.be
X-WR-CALDESC:Evenementen voor OVOS
REFRESH-INTERVAL;VALUE=DURATION:PT1H
X-Robots-Tag:noindex
X-PUBLISHED-TTL:PT1H
BEGIN:VTIMEZONE
TZID:Europe/Brussels
BEGIN:DAYLIGHT
TZOFFSETFROM:+0100
TZOFFSETTO:+0200
TZNAME:CEST
DTSTART:20200329T010000
END:DAYLIGHT
BEGIN:STANDARD
TZOFFSETFROM:+0200
TZOFFSETTO:+0100
TZNAME:CET
DTSTART:20201025T010000
END:STANDARD
BEGIN:DAYLIGHT
TZOFFSETFROM:+0100
TZOFFSETTO:+0200
TZNAME:CEST
DTSTART:20210328T010000
END:DAYLIGHT
BEGIN:STANDARD
TZOFFSETFROM:+0200
TZOFFSETTO:+0100
TZNAME:CET
DTSTART:20211031T010000
END:STANDARD
BEGIN:DAYLIGHT
TZOFFSETFROM:+0100
TZOFFSETTO:+0200
TZNAME:CEST
DTSTART:20220327T010000
END:DAYLIGHT
BEGIN:STANDARD
TZOFFSETFROM:+0200
TZOFFSETTO:+0100
TZNAME:CET
DTSTART:20221030T010000
END:STANDARD
END:VTIMEZONE
BEGIN:VEVENT
DTSTART;TZID=Europe/Brussels:20210128T200000
DTEND;TZID=Europe/Brussels:20210128T220000
DTSTAMP:20260424T082958
CREATED:20210123T102644Z
LAST-MODIFIED:20210123T102644Z
UID:3073-1611864000-1611871200@ovos.be
SUMMARY:Theorie 4*D / AI - Fysica
DESCRIPTION:Inschrijven voor de lessen gaat via inschrijvingsformulier https://forms.gle/sVXuydFTEB7GbT8u6 \nDe lessen worden gegeven met Microsoft Teams; de deelnemers krijgen een inschrijvingslink toegestuurd na inschrijving via bovenstaand formulier.
URL:https://ovos.be/event/theorie-4d-ai-fysica-2/
LOCATION:Online\, Oost-Vlaanderen\, België
CATEGORIES:Opleiding,Theorie
END:VEVENT
END:VCALENDAR