BEGIN:VCALENDAR
VERSION:2.0
PRODID:-//OVOS - ECPv6.15.20//NONSGML v1.0//EN
CALSCALE:GREGORIAN
METHOD:PUBLISH
X-ORIGINAL-URL:https://ovos.be
X-WR-CALDESC:Evenementen voor OVOS
REFRESH-INTERVAL;VALUE=DURATION:PT1H
X-Robots-Tag:noindex
X-PUBLISHED-TTL:PT1H
BEGIN:VTIMEZONE
TZID:Europe/Brussels
BEGIN:DAYLIGHT
TZOFFSETFROM:+0100
TZOFFSETTO:+0200
TZNAME:CEST
DTSTART:20210328T010000
END:DAYLIGHT
BEGIN:STANDARD
TZOFFSETFROM:+0200
TZOFFSETTO:+0100
TZNAME:CET
DTSTART:20211031T010000
END:STANDARD
BEGIN:DAYLIGHT
TZOFFSETFROM:+0100
TZOFFSETTO:+0200
TZNAME:CEST
DTSTART:20220327T010000
END:DAYLIGHT
BEGIN:STANDARD
TZOFFSETFROM:+0200
TZOFFSETTO:+0100
TZNAME:CET
DTSTART:20221030T010000
END:STANDARD
BEGIN:DAYLIGHT
TZOFFSETFROM:+0100
TZOFFSETTO:+0200
TZNAME:CEST
DTSTART:20230326T010000
END:DAYLIGHT
BEGIN:STANDARD
TZOFFSETFROM:+0200
TZOFFSETTO:+0100
TZNAME:CET
DTSTART:20231029T010000
END:STANDARD
END:VTIMEZONE
BEGIN:VEVENT
DTSTART;TZID=Europe/Brussels:20221207T200000
DTEND;TZID=Europe/Brussels:20221207T230000
DTSTAMP:20260421T130212
CREATED:20220902T134105Z
LAST-MODIFIED:20220902T134105Z
UID:3802-1670443200-1670454000@ovos.be
SUMMARY:Theorie AI/4*D - Praktisch duiken
DESCRIPTION:Meer informatie op de pagina voor assistent-instructeur of 4* duiker. \nInschrijven voor de cursus op https://forms.gle/B42PxRQfzGCZ22So9
URL:https://ovos.be/event/theorie-ai-4d-praktisch-duiken/
LOCATION:Huis Van De Sport\, Zuiderlaan 13\, Gent\, Oost-Vlaanderen\, 9000\, België
CATEGORIES:Opleiding,Theorie
END:VEVENT
BEGIN:VEVENT
DTSTART;TZID=Europe/Brussels:20221215T200000
DTEND;TZID=Europe/Brussels:20221215T230000
DTSTAMP:20260421T130212
CREATED:20220902T134056Z
LAST-MODIFIED:20220902T134114Z
UID:3803-1671134400-1671145200@ovos.be
SUMMARY:Theorie AI/4*D - Zeemanschap
DESCRIPTION:Meer informatie op de pagina voor assistent-instructeur of 4* duiker. \nInschrijven voor de cursus op https://forms.gle/B42PxRQfzGCZ22So9
URL:https://ovos.be/event/theorie-ai-4d-zeemanschap/
LOCATION:Huis Van De Sport\, Zuiderlaan 13\, Gent\, Oost-Vlaanderen\, 9000\, België
CATEGORIES:Opleiding,Theorie
END:VEVENT
END:VCALENDAR