BEGIN:VCALENDAR
VERSION:2.0
PRODID:-//OVOS - ECPv6.15.20//NONSGML v1.0//EN
CALSCALE:GREGORIAN
METHOD:PUBLISH
X-WR-CALNAME:OVOS
X-ORIGINAL-URL:https://ovos.be
X-WR-CALDESC:Evenementen voor OVOS
REFRESH-INTERVAL;VALUE=DURATION:PT1H
X-Robots-Tag:noindex
X-PUBLISHED-TTL:PT1H
BEGIN:VTIMEZONE
TZID:Europe/Brussels
BEGIN:DAYLIGHT
TZOFFSETFROM:+0100
TZOFFSETTO:+0200
TZNAME:CEST
DTSTART:20230326T010000
END:DAYLIGHT
BEGIN:STANDARD
TZOFFSETFROM:+0200
TZOFFSETTO:+0100
TZNAME:CET
DTSTART:20231029T010000
END:STANDARD
BEGIN:DAYLIGHT
TZOFFSETFROM:+0100
TZOFFSETTO:+0200
TZNAME:CEST
DTSTART:20240331T010000
END:DAYLIGHT
BEGIN:STANDARD
TZOFFSETFROM:+0200
TZOFFSETTO:+0100
TZNAME:CET
DTSTART:20241027T010000
END:STANDARD
BEGIN:DAYLIGHT
TZOFFSETFROM:+0100
TZOFFSETTO:+0200
TZNAME:CEST
DTSTART:20250330T010000
END:DAYLIGHT
BEGIN:STANDARD
TZOFFSETFROM:+0200
TZOFFSETTO:+0100
TZNAME:CET
DTSTART:20251026T010000
END:STANDARD
END:VTIMEZONE
BEGIN:VEVENT
DTSTART;TZID=Europe/Brussels:20241022T200000
DTEND;TZID=Europe/Brussels:20241022T230000
DTSTAMP:20260419T222404
CREATED:20240605T080515Z
LAST-MODIFIED:20240605T080515Z
UID:4964-1729627200-1729638000@ovos.be
SUMMARY:Theorie 4*D/AI - Fysica
DESCRIPTION:Theorieles voor de opleiding  4* Duiker en Assistent-Instructeur. De volledige agenda kan gevonden worden op de 2 voorgaande links. \nInschrijven voor de opleiding via https://forms.gle/4kujJQHpBj8qyGtT9.
URL:https://ovos.be/event/theorie-4d-ai-fysica-3/
LOCATION:Huis Van De Sport\, Zuiderlaan 13\, Gent\, Oost-Vlaanderen\, 9000\, België
CATEGORIES:Opleiding,Theorie
END:VEVENT
END:VCALENDAR