BEGIN:VCALENDAR
VERSION:2.0
PRODID:-//OVOS - ECPv6.15.20//NONSGML v1.0//EN
CALSCALE:GREGORIAN
METHOD:PUBLISH
X-ORIGINAL-URL:https://ovos.be
X-WR-CALDESC:Evenementen voor OVOS
REFRESH-INTERVAL;VALUE=DURATION:PT1H
X-Robots-Tag:noindex
X-PUBLISHED-TTL:PT1H
BEGIN:VTIMEZONE
TZID:Europe/Brussels
BEGIN:DAYLIGHT
TZOFFSETFROM:+0100
TZOFFSETTO:+0200
TZNAME:CEST
DTSTART:20210328T010000
END:DAYLIGHT
BEGIN:STANDARD
TZOFFSETFROM:+0200
TZOFFSETTO:+0100
TZNAME:CET
DTSTART:20211031T010000
END:STANDARD
BEGIN:DAYLIGHT
TZOFFSETFROM:+0100
TZOFFSETTO:+0200
TZNAME:CEST
DTSTART:20220327T010000
END:DAYLIGHT
BEGIN:STANDARD
TZOFFSETFROM:+0200
TZOFFSETTO:+0100
TZNAME:CET
DTSTART:20221030T010000
END:STANDARD
BEGIN:DAYLIGHT
TZOFFSETFROM:+0100
TZOFFSETTO:+0200
TZNAME:CEST
DTSTART:20230326T010000
END:DAYLIGHT
BEGIN:STANDARD
TZOFFSETFROM:+0200
TZOFFSETTO:+0100
TZNAME:CET
DTSTART:20231029T010000
END:STANDARD
END:VTIMEZONE
BEGIN:VEVENT
DTSTART;TZID=Europe/Brussels:20220117T200000
DTEND;TZID=Europe/Brussels:20220117T230000
DTSTAMP:20260423T173939
CREATED:20220112T142509Z
LAST-MODIFIED:20220124T092611Z
UID:3477-1642449600-1642460400@ovos.be
SUMMARY:GND - Theorie - Fysica / Geneeskunde
DESCRIPTION:Meer informatie\, zie https://ovos.be/opleidingen/gevorderd-nitrox-duiker/
URL:https://ovos.be/event/theorie-gnd-fysica-geneeskunde/
LOCATION:Orka Lokeren\, Sportlaan 4A \, Lokeren\, 9160\, België
CATEGORIES:Opleiding,Theorie
END:VEVENT
BEGIN:VEVENT
DTSTART;TZID=Europe/Brussels:20220126T200000
DTEND;TZID=Europe/Brussels:20220126T230000
DTSTAMP:20260423T173939
CREATED:20220112T142702Z
LAST-MODIFIED:20220124T092619Z
UID:3482-1643227200-1643238000@ovos.be
SUMMARY:GND - Theorie - Praktisch duiken / veiligheidsreglement / materiaal
DESCRIPTION:Meer informatie\, zie https://ovos.be/opleidingen/gevorderd-nitrox-duiker/
URL:https://ovos.be/event/theorie-gnd-praktisch-duiken-veiligheidsreglement-materiaal/
LOCATION:Orka Lokeren\, Sportlaan 4A \, Lokeren\, 9160\, België
CATEGORIES:Opleiding,Theorie
END:VEVENT
END:VCALENDAR