BEGIN:VCALENDAR
VERSION:2.0
PRODID:-//OVOS - ECPv6.15.20//NONSGML v1.0//EN
CALSCALE:GREGORIAN
METHOD:PUBLISH
X-WR-CALNAME:OVOS
X-ORIGINAL-URL:https://ovos.be
X-WR-CALDESC:Evenementen voor OVOS
REFRESH-INTERVAL;VALUE=DURATION:PT1H
X-Robots-Tag:noindex
X-PUBLISHED-TTL:PT1H
BEGIN:VTIMEZONE
TZID:Europe/Brussels
BEGIN:DAYLIGHT
TZOFFSETFROM:+0100
TZOFFSETTO:+0200
TZNAME:CEST
DTSTART:20210328T010000
END:DAYLIGHT
BEGIN:STANDARD
TZOFFSETFROM:+0200
TZOFFSETTO:+0100
TZNAME:CET
DTSTART:20211031T010000
END:STANDARD
BEGIN:DAYLIGHT
TZOFFSETFROM:+0100
TZOFFSETTO:+0200
TZNAME:CEST
DTSTART:20220327T010000
END:DAYLIGHT
BEGIN:STANDARD
TZOFFSETFROM:+0200
TZOFFSETTO:+0100
TZNAME:CET
DTSTART:20221030T010000
END:STANDARD
BEGIN:DAYLIGHT
TZOFFSETFROM:+0100
TZOFFSETTO:+0200
TZNAME:CEST
DTSTART:20230326T010000
END:DAYLIGHT
BEGIN:STANDARD
TZOFFSETFROM:+0200
TZOFFSETTO:+0100
TZNAME:CET
DTSTART:20231029T010000
END:STANDARD
END:VTIMEZONE
BEGIN:VEVENT
DTSTART;TZID=Europe/Brussels:20220201T200000
DTEND;TZID=Europe/Brussels:20220201T230000
DTSTAMP:20260423T161407
CREATED:20220112T142808Z
LAST-MODIFIED:20220124T092627Z
UID:3484-1643745600-1643756400@ovos.be
SUMMARY:GND - Theorie - Decompressietechnieken
DESCRIPTION:Meer informatie\, zie https://ovos.be/opleidingen/gevorderd-nitrox-duiker/
URL:https://ovos.be/event/theorie-gnd-decompressietechnieken-2/
LOCATION:Orka Lokeren\, Sportlaan 4A \, Lokeren\, 9160\, België
CATEGORIES:Opleiding,Theorie
END:VEVENT
BEGIN:VEVENT
DTSTART;TZID=Europe/Brussels:20220207T200000
DTEND;TZID=Europe/Brussels:20220207T230000
DTSTAMP:20260423T161407
CREATED:20220112T142911Z
LAST-MODIFIED:20220124T092650Z
UID:3486-1644264000-1644274800@ovos.be
SUMMARY:GND - Theorie - Versneld decompresseren / theorie en voorbeelden
DESCRIPTION:Meer informatie\, zie https://ovos.be/opleidingen/gevorderd-nitrox-duiker/
URL:https://ovos.be/event/theorie-gnd-versneld-decompresseren-theorie-en-voorbeelden-2/
LOCATION:Orka Lokeren\, Sportlaan 4A \, Lokeren\, 9160\, België
CATEGORIES:Opleiding,Theorie
END:VEVENT
BEGIN:VEVENT
DTSTART;TZID=Europe/Brussels:20220216T200000
DTEND;TZID=Europe/Brussels:20220216T230000
DTSTAMP:20260423T161407
CREATED:20220112T143022Z
LAST-MODIFIED:20220124T092656Z
UID:3488-1645041600-1645052400@ovos.be
SUMMARY:GND - Theorie - Individuele planningssoftware / herhaling
DESCRIPTION:Meer informatie\, zie https://ovos.be/opleidingen/gevorderd-nitrox-duiker/
URL:https://ovos.be/event/theorie-gnd-individuele-planningssoftware-herhaling/
LOCATION:Orka Lokeren\, Sportlaan 4A \, Lokeren\, 9160\, België
CATEGORIES:Opleiding,Theorie
END:VEVENT
END:VCALENDAR