BEGIN:VCALENDAR
VERSION:2.0
PRODID:-//OVOS - ECPv6.15.20//NONSGML v1.0//EN
CALSCALE:GREGORIAN
METHOD:PUBLISH
X-ORIGINAL-URL:https://ovos.be
X-WR-CALDESC:Evenementen voor OVOS
REFRESH-INTERVAL;VALUE=DURATION:PT1H
X-Robots-Tag:noindex
X-PUBLISHED-TTL:PT1H
BEGIN:VTIMEZONE
TZID:Europe/Brussels
BEGIN:DAYLIGHT
TZOFFSETFROM:+0100
TZOFFSETTO:+0200
TZNAME:CEST
DTSTART:20210328T010000
END:DAYLIGHT
BEGIN:STANDARD
TZOFFSETFROM:+0200
TZOFFSETTO:+0100
TZNAME:CET
DTSTART:20211031T010000
END:STANDARD
BEGIN:DAYLIGHT
TZOFFSETFROM:+0100
TZOFFSETTO:+0200
TZNAME:CEST
DTSTART:20220327T010000
END:DAYLIGHT
BEGIN:STANDARD
TZOFFSETFROM:+0200
TZOFFSETTO:+0100
TZNAME:CET
DTSTART:20221030T010000
END:STANDARD
BEGIN:DAYLIGHT
TZOFFSETFROM:+0100
TZOFFSETTO:+0200
TZNAME:CEST
DTSTART:20230326T010000
END:DAYLIGHT
BEGIN:STANDARD
TZOFFSETFROM:+0200
TZOFFSETTO:+0100
TZNAME:CET
DTSTART:20231029T010000
END:STANDARD
END:VTIMEZONE
BEGIN:VEVENT
DTSTART;TZID=Europe/Brussels:20220307T200000
DTEND;TZID=Europe/Brussels:20220307T230000
DTSTAMP:20260423T144112
CREATED:20220112T143130Z
LAST-MODIFIED:20220124T092726Z
UID:3491-1646683200-1646694000@ovos.be
SUMMARY:GND - Theorie - Examen
DESCRIPTION:Meer informatie\, zie https://ovos.be/opleidingen/gevorderd-nitrox-duiker/
URL:https://ovos.be/event/theorie-gnd-examen/
LOCATION:Orka Lokeren\, Sportlaan 4A \, Lokeren\, 9160\, België
CATEGORIES:Examen,Opleiding,Theorie
END:VEVENT
BEGIN:VEVENT
DTSTART;TZID=Europe/Brussels:20220323T200000
DTEND;TZID=Europe/Brussels:20220323T230000
DTSTAMP:20260423T144112
CREATED:20220112T143237Z
LAST-MODIFIED:20220112T143237Z
UID:3493-1648065600-1648076400@ovos.be
SUMMARY:Theorie GND - Herexamen
DESCRIPTION:Meer informatie\, zie https://ovos.be/opleidingen/gevorderd-nitrox-duiker/
URL:https://ovos.be/event/theorie-gnd-herexamen/
CATEGORIES:Examen,Opleiding,Theorie
END:VEVENT
END:VCALENDAR