BEGIN:VCALENDAR
VERSION:2.0
PRODID:-//OVOS - ECPv6.15.20//NONSGML v1.0//EN
CALSCALE:GREGORIAN
METHOD:PUBLISH
X-WR-CALNAME:OVOS
X-ORIGINAL-URL:https://ovos.be
X-WR-CALDESC:Evenementen voor OVOS
REFRESH-INTERVAL;VALUE=DURATION:PT1H
X-Robots-Tag:noindex
X-PUBLISHED-TTL:PT1H
BEGIN:VTIMEZONE
TZID:Europe/Brussels
BEGIN:DAYLIGHT
TZOFFSETFROM:+0100
TZOFFSETTO:+0200
TZNAME:CEST
DTSTART:20200329T010000
END:DAYLIGHT
BEGIN:STANDARD
TZOFFSETFROM:+0200
TZOFFSETTO:+0100
TZNAME:CET
DTSTART:20201025T010000
END:STANDARD
BEGIN:DAYLIGHT
TZOFFSETFROM:+0100
TZOFFSETTO:+0200
TZNAME:CEST
DTSTART:20210328T010000
END:DAYLIGHT
BEGIN:STANDARD
TZOFFSETFROM:+0200
TZOFFSETTO:+0100
TZNAME:CET
DTSTART:20211031T010000
END:STANDARD
BEGIN:DAYLIGHT
TZOFFSETFROM:+0100
TZOFFSETTO:+0200
TZNAME:CEST
DTSTART:20220327T010000
END:DAYLIGHT
BEGIN:STANDARD
TZOFFSETFROM:+0200
TZOFFSETTO:+0100
TZNAME:CET
DTSTART:20221030T010000
END:STANDARD
END:VTIMEZONE
BEGIN:VEVENT
DTSTART;TZID=Europe/Brussels:20211204T160000
DTEND;TZID=Europe/Brussels:20211204T190000
DTSTAMP:20260422T082511
CREATED:20211029T105615Z
LAST-MODIFIED:20211029T105751Z
UID:3387-1638633600-1638644400@ovos.be
SUMMARY:Avondduik La Roche Fontaine
DESCRIPTION:Voor wie: voor alle duikers vanaf 2* brevet\nProeven/duikleidingen: tijdens deze duik worden er geen proeven/duikleidingen afgenomen\nKostprijs: 10 euro voor duik + 15 euro catering (exclusief drank)\nInformatie over de duikplaats: Duiken in België – Carrière de Roche Fontaine (duiken-in-belgie.com)\nKleedkamers: aanwezig\nVul mogelijkheid: ja\nTijdstip afspraak: 16u00\nAdres: Rue de Stoumont 5600 Franchimont\nTijdstip ter plaatse: 16u00\nInschrijven: via volgende link https://forms.gle/CKeud7ySmaeGSGzd7\, let op jouw inschrijving is pas definitief na betaling op rekeningnummer BE70 9734 0600 2325 Thalassa Diving Gent vzw met vermelding “avondduik steengroeve la roche fontaine + naam” \nHopelijk tot dan\,\nNamens Thalassa Diving Gent\nVeerle Levecke (0485837793)
URL:https://ovos.be/event/avondduik-la-roche-fontaine/
LOCATION:La Roche Fontaine\, Rue de Stoumont\, Franchimont\, 5600\, België
CATEGORIES:Clubs,Werkgroep Steengroeven
ATTACH;FMTTYPE=image/jpeg:https://ovos.be/wp-content/uploads/2021/10/p1010069_8782864346_o.jpg
ORGANIZER;CN="Thalassa Diving":MAILTO:info@thalassa-diving.be
END:VEVENT
END:VCALENDAR