BEGIN:VCALENDAR
VERSION:2.0
PRODID:-//OVOS - ECPv6.15.20//NONSGML v1.0//EN
CALSCALE:GREGORIAN
METHOD:PUBLISH
X-ORIGINAL-URL:https://ovos.be
X-WR-CALDESC:Evenementen voor OVOS
REFRESH-INTERVAL;VALUE=DURATION:PT1H
X-Robots-Tag:noindex
X-PUBLISHED-TTL:PT1H
BEGIN:VTIMEZONE
TZID:Europe/Brussels
BEGIN:DAYLIGHT
TZOFFSETFROM:+0100
TZOFFSETTO:+0200
TZNAME:CEST
DTSTART:20200329T010000
END:DAYLIGHT
BEGIN:STANDARD
TZOFFSETFROM:+0200
TZOFFSETTO:+0100
TZNAME:CET
DTSTART:20201025T010000
END:STANDARD
BEGIN:DAYLIGHT
TZOFFSETFROM:+0100
TZOFFSETTO:+0200
TZNAME:CEST
DTSTART:20210328T010000
END:DAYLIGHT
BEGIN:STANDARD
TZOFFSETFROM:+0200
TZOFFSETTO:+0100
TZNAME:CET
DTSTART:20211031T010000
END:STANDARD
BEGIN:DAYLIGHT
TZOFFSETFROM:+0100
TZOFFSETTO:+0200
TZNAME:CEST
DTSTART:20220327T010000
END:DAYLIGHT
BEGIN:STANDARD
TZOFFSETFROM:+0200
TZOFFSETTO:+0100
TZNAME:CET
DTSTART:20221030T010000
END:STANDARD
END:VTIMEZONE
BEGIN:VEVENT
DTSTART;TZID=Europe/Brussels:20211118T200000
DTEND;TZID=Europe/Brussels:20211118T220000
DTSTAMP:20260424T104322
CREATED:20200907T095403Z
LAST-MODIFIED:20210106T083102Z
UID:2937-1637265600-1637272800@ovos.be
SUMMARY:Ronde Tafel regio OVOS
DESCRIPTION:Zie https://nelos.be voor laatste informatie \nVoor bestuursleden\, duikschoolverantwoordelijken\, instructeurs en andere geïnteresseerden. \nInschrijven via secretariaat@ovos.be
URL:https://ovos.be/event/ronde-tafel-regio-ovos-2/
LOCATION:Sportpark Eeklo\, Burg. Lionel Pussemierstraat 157\, Eeklo\, Oost-Vlaanderen\, 9900\, België
CATEGORIES:NELOS,OVOS
ORGANIZER;CN="NELOS":MAILTO:secretariaat@nelos.be
END:VEVENT
END:VCALENDAR