BEGIN:VCALENDAR
VERSION:2.0
PRODID:-//OVOS - ECPv6.15.20//NONSGML v1.0//EN
CALSCALE:GREGORIAN
METHOD:PUBLISH
X-ORIGINAL-URL:https://ovos.be
X-WR-CALDESC:Evenementen voor OVOS
REFRESH-INTERVAL;VALUE=DURATION:PT1H
X-Robots-Tag:noindex
X-PUBLISHED-TTL:PT1H
BEGIN:VTIMEZONE
TZID:Europe/Brussels
BEGIN:DAYLIGHT
TZOFFSETFROM:+0100
TZOFFSETTO:+0200
TZNAME:CEST
DTSTART:20210328T010000
END:DAYLIGHT
BEGIN:STANDARD
TZOFFSETFROM:+0200
TZOFFSETTO:+0100
TZNAME:CET
DTSTART:20211031T010000
END:STANDARD
BEGIN:DAYLIGHT
TZOFFSETFROM:+0100
TZOFFSETTO:+0200
TZNAME:CEST
DTSTART:20220327T010000
END:DAYLIGHT
BEGIN:STANDARD
TZOFFSETFROM:+0200
TZOFFSETTO:+0100
TZNAME:CET
DTSTART:20221030T010000
END:STANDARD
BEGIN:DAYLIGHT
TZOFFSETFROM:+0100
TZOFFSETTO:+0200
TZNAME:CEST
DTSTART:20230326T010000
END:DAYLIGHT
BEGIN:STANDARD
TZOFFSETFROM:+0200
TZOFFSETTO:+0100
TZNAME:CET
DTSTART:20231029T010000
END:STANDARD
END:VTIMEZONE
BEGIN:VEVENT
DTSTART;TZID=Europe/Brussels:20221122T200000
DTEND;TZID=Europe/Brussels:20221122T230000
DTSTAMP:20260423T180559
CREATED:20220105T133226Z
LAST-MODIFIED:20220105T133226Z
UID:3470-1669147200-1669158000@ovos.be
SUMMARY:Regionale Ronde Tafel OVOS-NELOS
DESCRIPTION:Gericht aan bestuursleden en duikschool-verantwoordelijken\, maar ook andere Instructeurs en geïnteresseerden. \nInschrijven via https://www.eventbrite.be/e/ronde-tafelvergadering-ovos-tickets-228352156447
URL:https://ovos.be/event/regionale-ronde-tafel-ovos-nelos/
LOCATION:De Zonnevallei\, Dendermondsesteenweg 13a\, Dendermonde\, Oost-Vlaanderen\, 9290\, België
CATEGORIES:NELOS
END:VEVENT
END:VCALENDAR