BEGIN:VCALENDAR
VERSION:2.0
PRODID:-//OVOS - ECPv6.15.20//NONSGML v1.0//EN
CALSCALE:GREGORIAN
METHOD:PUBLISH
X-WR-CALNAME:OVOS
X-ORIGINAL-URL:https://ovos.be
X-WR-CALDESC:Evenementen voor OVOS
REFRESH-INTERVAL;VALUE=DURATION:PT1H
X-Robots-Tag:noindex
X-PUBLISHED-TTL:PT1H
BEGIN:VTIMEZONE
TZID:Europe/Brussels
BEGIN:DAYLIGHT
TZOFFSETFROM:+0100
TZOFFSETTO:+0200
TZNAME:CEST
DTSTART:20230326T010000
END:DAYLIGHT
BEGIN:STANDARD
TZOFFSETFROM:+0200
TZOFFSETTO:+0100
TZNAME:CET
DTSTART:20231029T010000
END:STANDARD
BEGIN:DAYLIGHT
TZOFFSETFROM:+0100
TZOFFSETTO:+0200
TZNAME:CEST
DTSTART:20240331T010000
END:DAYLIGHT
BEGIN:STANDARD
TZOFFSETFROM:+0200
TZOFFSETTO:+0100
TZNAME:CET
DTSTART:20241027T010000
END:STANDARD
BEGIN:DAYLIGHT
TZOFFSETFROM:+0100
TZOFFSETTO:+0200
TZNAME:CEST
DTSTART:20250330T010000
END:DAYLIGHT
BEGIN:STANDARD
TZOFFSETFROM:+0200
TZOFFSETTO:+0100
TZNAME:CET
DTSTART:20251026T010000
END:STANDARD
END:VTIMEZONE
BEGIN:VEVENT
DTSTART;TZID=Europe/Brussels:20241105T193000
DTEND;TZID=Europe/Brussels:20241105T220000
DTSTAMP:20260420T145536
CREATED:20240325T133815Z
LAST-MODIFIED:20240325T134106Z
UID:4829-1730835000-1730844000@ovos.be
SUMMARY:Regionale Ronde Tafel OVOS
DESCRIPTION:Doelpubliek: instructeurs\, bestuursleden en duikschoolverantwoordelijken \nInschrijven via https://www.eventbrite.be/e/regionale-ronde-tafel-ovos-tickets-780700073937
URL:https://ovos.be/event/regionale-ronde-tafel-ovos-2024/
LOCATION:Huis Van De Sport\, Zuiderlaan 13\, Gent\, Oost-Vlaanderen\, 9000\, België
CATEGORIES:Bijscholing,NELOS
ORGANIZER;CN="NELOS":MAILTO:secretariaat@nelos.be
END:VEVENT
END:VCALENDAR