BEGIN:VCALENDAR
VERSION:2.0
PRODID:-//OVOS - ECPv6.15.20//NONSGML v1.0//EN
CALSCALE:GREGORIAN
METHOD:PUBLISH
X-ORIGINAL-URL:https://ovos.be
X-WR-CALDESC:Evenementen voor OVOS
REFRESH-INTERVAL;VALUE=DURATION:PT1H
X-Robots-Tag:noindex
X-PUBLISHED-TTL:PT1H
BEGIN:VTIMEZONE
TZID:Europe/Brussels
BEGIN:DAYLIGHT
TZOFFSETFROM:+0100
TZOFFSETTO:+0200
TZNAME:CEST
DTSTART:20200329T010000
END:DAYLIGHT
BEGIN:STANDARD
TZOFFSETFROM:+0200
TZOFFSETTO:+0100
TZNAME:CET
DTSTART:20201025T010000
END:STANDARD
BEGIN:DAYLIGHT
TZOFFSETFROM:+0100
TZOFFSETTO:+0200
TZNAME:CEST
DTSTART:20210328T010000
END:DAYLIGHT
BEGIN:STANDARD
TZOFFSETFROM:+0200
TZOFFSETTO:+0100
TZNAME:CET
DTSTART:20211031T010000
END:STANDARD
BEGIN:DAYLIGHT
TZOFFSETFROM:+0100
TZOFFSETTO:+0200
TZNAME:CEST
DTSTART:20220327T010000
END:DAYLIGHT
BEGIN:STANDARD
TZOFFSETFROM:+0200
TZOFFSETTO:+0100
TZNAME:CET
DTSTART:20221030T010000
END:STANDARD
END:VTIMEZONE
BEGIN:VEVENT
DTSTART;TZID=Europe/Brussels:20210826T194500
DTEND;TZID=Europe/Brussels:20210826T223000
DTSTAMP:20260423T083107
CREATED:20210813T073905Z
LAST-MODIFIED:20210813T073905Z
UID:3287-1630007100-1630017000@ovos.be
SUMMARY:Tafelgesprekken\, geen bla bla
DESCRIPTION:Tijdens deze sessie wordt er informatie gegeven aan de kandidaten 2*I over het reilen en zeilen van de tafelgesprekken op de zeestage van NELOS. De kandidaten van OVOS zullen een persoonlijke uitnodiging krijgen voor deze sessie.
URL:https://ovos.be/event/tafelgesprekken-geen-bla-bla/
LOCATION:De Zonnevallei\, Dendermondsesteenweg 13a\, Dendermonde\, Oost-Vlaanderen\, 9290\, België
CATEGORIES:Opleiding,Theorie
END:VEVENT
END:VCALENDAR