BEGIN:VCALENDAR
VERSION:2.0
PRODID:-//OVOS - ECPv6.15.20//NONSGML v1.0//EN
CALSCALE:GREGORIAN
METHOD:PUBLISH
X-ORIGINAL-URL:https://ovos.be
X-WR-CALDESC:Evenementen voor OVOS
REFRESH-INTERVAL;VALUE=DURATION:PT1H
X-Robots-Tag:noindex
X-PUBLISHED-TTL:PT1H
BEGIN:VTIMEZONE
TZID:Europe/Brussels
BEGIN:DAYLIGHT
TZOFFSETFROM:+0100
TZOFFSETTO:+0200
TZNAME:CEST
DTSTART:20200329T010000
END:DAYLIGHT
BEGIN:STANDARD
TZOFFSETFROM:+0200
TZOFFSETTO:+0100
TZNAME:CET
DTSTART:20201025T010000
END:STANDARD
BEGIN:DAYLIGHT
TZOFFSETFROM:+0100
TZOFFSETTO:+0200
TZNAME:CEST
DTSTART:20210328T010000
END:DAYLIGHT
BEGIN:STANDARD
TZOFFSETFROM:+0200
TZOFFSETTO:+0100
TZNAME:CET
DTSTART:20211031T010000
END:STANDARD
BEGIN:DAYLIGHT
TZOFFSETFROM:+0100
TZOFFSETTO:+0200
TZNAME:CEST
DTSTART:20220327T010000
END:DAYLIGHT
BEGIN:STANDARD
TZOFFSETFROM:+0200
TZOFFSETTO:+0100
TZNAME:CET
DTSTART:20221030T010000
END:STANDARD
END:VTIMEZONE
BEGIN:VEVENT
DTSTART;TZID=Europe/Brussels:20210905T123000
DTEND;TZID=Europe/Brussels:20210905T123000
DTSTAMP:20260423T070340
CREATED:20200907T095401Z
LAST-MODIFIED:20200907T095401Z
UID:2930-1630845000-1630845000@ovos.be
SUMMARY:Zeestage 2*I en 3*I - Pré-Boulouris
DESCRIPTION:Zie https://nelos.be voor laatste informatie
URL:https://ovos.be/event/zeestage-2i-en-3i-pre-boulouris-2/
LOCATION:Duikershuis NELOS vzw\, Brusselsesteenweg 313-315\, Mechelen\, 2800\, België
CATEGORIES:NELOS,Opleiding,Zeestage
ORGANIZER;CN="NELOS":MAILTO:secretariaat@nelos.be
END:VEVENT
END:VCALENDAR