BEGIN:VCALENDAR
VERSION:2.0
PRODID:-//OVOS - ECPv6.15.20//NONSGML v1.0//EN
CALSCALE:GREGORIAN
METHOD:PUBLISH
X-WR-CALNAME:OVOS
X-ORIGINAL-URL:https://ovos.be
X-WR-CALDESC:Evenementen voor OVOS
REFRESH-INTERVAL;VALUE=DURATION:PT1H
X-Robots-Tag:noindex
X-PUBLISHED-TTL:PT1H
BEGIN:VTIMEZONE
TZID:Europe/Brussels
BEGIN:DAYLIGHT
TZOFFSETFROM:+0100
TZOFFSETTO:+0200
TZNAME:CEST
DTSTART:20200329T010000
END:DAYLIGHT
BEGIN:STANDARD
TZOFFSETFROM:+0200
TZOFFSETTO:+0100
TZNAME:CET
DTSTART:20201025T010000
END:STANDARD
BEGIN:DAYLIGHT
TZOFFSETFROM:+0100
TZOFFSETTO:+0200
TZNAME:CEST
DTSTART:20210328T010000
END:DAYLIGHT
BEGIN:STANDARD
TZOFFSETFROM:+0200
TZOFFSETTO:+0100
TZNAME:CET
DTSTART:20211031T010000
END:STANDARD
BEGIN:DAYLIGHT
TZOFFSETFROM:+0100
TZOFFSETTO:+0200
TZNAME:CEST
DTSTART:20220327T010000
END:DAYLIGHT
BEGIN:STANDARD
TZOFFSETFROM:+0200
TZOFFSETTO:+0100
TZNAME:CET
DTSTART:20221030T010000
END:STANDARD
END:VTIMEZONE
BEGIN:VEVENT
DTSTART;TZID=Europe/Brussels:20211002T220000
DTEND;TZID=Europe/Brussels:20211006T220000
DTSTAMP:20260423T053927
CREATED:20200907T095402Z
LAST-MODIFIED:20200907T095402Z
UID:2931-1633212000-1633557600@ovos.be
SUMMARY:Zeestage voor kandidaten 2*I en 3*I
DESCRIPTION:Zie https://nelos.be voor laatste informatie
URL:https://ovos.be/event/zeestage-voor-kandidaten-2i-en-3i-2/
LOCATION:Boulouris\, Boulouris\, Saint-Raphaël\, 83700\, Frankrijk
CATEGORIES:NELOS,Opleiding,Zeestage
ORGANIZER;CN="NELOS":MAILTO:secretariaat@nelos.be
END:VEVENT
END:VCALENDAR