BEGIN:VCALENDAR
VERSION:2.0
PRODID:-//OVOS - ECPv6.15.20//NONSGML v1.0//EN
CALSCALE:GREGORIAN
METHOD:PUBLISH
X-ORIGINAL-URL:https://ovos.be
X-WR-CALDESC:Evenementen voor OVOS
REFRESH-INTERVAL;VALUE=DURATION:PT1H
X-Robots-Tag:noindex
X-PUBLISHED-TTL:PT1H
BEGIN:VTIMEZONE
TZID:Europe/Brussels
BEGIN:DAYLIGHT
TZOFFSETFROM:+0100
TZOFFSETTO:+0200
TZNAME:CEST
DTSTART:20200329T010000
END:DAYLIGHT
BEGIN:STANDARD
TZOFFSETFROM:+0200
TZOFFSETTO:+0100
TZNAME:CET
DTSTART:20201025T010000
END:STANDARD
BEGIN:DAYLIGHT
TZOFFSETFROM:+0100
TZOFFSETTO:+0200
TZNAME:CEST
DTSTART:20210328T010000
END:DAYLIGHT
BEGIN:STANDARD
TZOFFSETFROM:+0200
TZOFFSETTO:+0100
TZNAME:CET
DTSTART:20211031T010000
END:STANDARD
BEGIN:DAYLIGHT
TZOFFSETFROM:+0100
TZOFFSETTO:+0200
TZNAME:CEST
DTSTART:20220327T010000
END:DAYLIGHT
BEGIN:STANDARD
TZOFFSETFROM:+0200
TZOFFSETTO:+0100
TZNAME:CET
DTSTART:20221030T010000
END:STANDARD
END:VTIMEZONE
BEGIN:VEVENT
DTSTART;TZID=Europe/Brussels:20211228T200000
DTEND;TZID=Europe/Brussels:20211228T220000
DTSTAMP:20260423T022713
CREATED:20211216T094046Z
LAST-MODIFIED:20211216T094046Z
UID:3434-1640721600-1640728800@ovos.be
SUMMARY:2**I iets voor mij? Mythe\, waarheid\, droom en realiteit
DESCRIPTION:Op dinsdag 28/12 om 20:00 houden we een digitale infosessie waarbij we het traject 2**I (theorie en zeestage) met geïnteresseerde kandidaten overlopen en al jullie vragen over dit onderwerp beantwoorden.\n\n\nDe doelgroep voor deze sessie zijn 1* Instructeurs die de ambitie hebben om zich kandidaat te stellen maar ook kandidaat 1*Instructeurs die graag wat meer achtergrond wensen rond dit traject.\n\n\n\nInschrijven is verplicht via mail naar duikonderricht@ovos.be. Aansluitend ontvang je een uitnodiging voor een MSTeams online meeting.
URL:https://ovos.be/event/2i-iets-voor-mij-mythe-waarheid-droom-en-realiteit/
LOCATION:Online via Microsoft Teams\, Oost-Vlaanderen\, België
CATEGORIES:Examen,Opleiding,Zeestage
END:VEVENT
END:VCALENDAR