BEGIN:VCALENDAR
VERSION:2.0
PRODID:-//OVOS - ECPv6.15.20//NONSGML v1.0//EN
CALSCALE:GREGORIAN
METHOD:PUBLISH
X-WR-CALNAME:OVOS
X-ORIGINAL-URL:https://ovos.be
X-WR-CALDESC:Evenementen voor OVOS
REFRESH-INTERVAL;VALUE=DURATION:PT1H
X-Robots-Tag:noindex
X-PUBLISHED-TTL:PT1H
BEGIN:VTIMEZONE
TZID:Europe/Brussels
BEGIN:DAYLIGHT
TZOFFSETFROM:+0100
TZOFFSETTO:+0200
TZNAME:CEST
DTSTART:20210328T010000
END:DAYLIGHT
BEGIN:STANDARD
TZOFFSETFROM:+0200
TZOFFSETTO:+0100
TZNAME:CET
DTSTART:20211031T010000
END:STANDARD
BEGIN:DAYLIGHT
TZOFFSETFROM:+0100
TZOFFSETTO:+0200
TZNAME:CEST
DTSTART:20220327T010000
END:DAYLIGHT
BEGIN:STANDARD
TZOFFSETFROM:+0200
TZOFFSETTO:+0100
TZNAME:CET
DTSTART:20221030T010000
END:STANDARD
BEGIN:DAYLIGHT
TZOFFSETFROM:+0100
TZOFFSETTO:+0200
TZNAME:CEST
DTSTART:20230326T010000
END:DAYLIGHT
BEGIN:STANDARD
TZOFFSETFROM:+0200
TZOFFSETTO:+0100
TZNAME:CET
DTSTART:20231029T010000
END:STANDARD
END:VTIMEZONE
BEGIN:VEVENT
DTSTART;TZID=Europe/Brussels:20221228T200000
DTEND;TZID=Europe/Brussels:20221228T220000
DTSTAMP:20260422T063609
CREATED:20220113T082955Z
LAST-MODIFIED:20220113T082955Z
UID:3509-1672257600-1672264800@ovos.be
SUMMARY:Infoavond 2*I
DESCRIPTION:We houde infosessie waarbij we het traject 2**I (theorie en zeestage) met geïnteresseerde kandidaten overlopen en al jullie vragen over dit onderwerp beantwoorden.\n\n\nDe doelgroep voor deze sessie zijn 1* Instructeurs die de ambitie hebben om zich kandidaat te stellen maar ook kandidaat 1*Instructeurs die graag wat meer achtergrond wensen rond dit traject.
URL:https://ovos.be/event/infoavond-2i/
CATEGORIES:Opleiding,Praktijk,Theorie,Zeestage
END:VEVENT
END:VCALENDAR